BEGIN:VCALENDAR
VERSION:2.0
PRODID:-//LUNA DE MOL - ECPv6.15.20//NONSGML v1.0//EN
CALSCALE:GREGORIAN
METHOD:PUBLISH
X-WR-CALNAME:LUNA DE MOL
X-ORIGINAL-URL:https://lunademol.com
X-WR-CALDESC:Events for LUNA DE MOL
REFRESH-INTERVAL;VALUE=DURATION:PT1H
X-Robots-Tag:noindex
X-PUBLISHED-TTL:PT1H
BEGIN:VTIMEZONE
TZID:UTC
BEGIN:STANDARD
TZOFFSETFROM:+0000
TZOFFSETTO:+0000
TZNAME:UTC
DTSTART:20250101T000000
END:STANDARD
END:VTIMEZONE
BEGIN:VEVENT
DTSTART;TZID=UTC:20260110T133000
DTEND;TZID=UTC:20260110T133000
DTSTAMP:20260425T131117
CREATED:20250925T122421Z
LAST-MODIFIED:20250925T122458Z
UID:4159-1768051800-1768051800@lunademol.com
SUMMARY:Fibonacci Quartet in Concert@Philharmonie de Paris - France
DESCRIPTION:L’Après-midi du Quatuor\nProgamme:  \nHelen Grime: String Quartet No. 1\nBéla Bartók: String Quartet No. 5 \nFibonacci Quartet : \n* Luna De Mol \, Kryštof Kohout – violin\n* Elliot Kempton – viola\n* Findlay Spence – cello \nSee also Fibonacci Site
URL:https://lunademol.com/concerts/fibonacci-quartet-in-philharmonie-de-paris/
LOCATION:Le studio – Philharmonie de Paris\, 221 avenue Jean-Jaurès\, Paris\, 75019\, France
ATTACH;FMTTYPE=image/jpeg:https://lunademol.com/wp-content/uploads/2025/09/Paris-Philharmonie-Le-studio.jpg
END:VEVENT
END:VCALENDAR