BEGIN:VCALENDAR
VERSION:2.0
PRODID:-//LUNA DE MOL - ECPv6.15.20//NONSGML v1.0//EN
CALSCALE:GREGORIAN
METHOD:PUBLISH
X-ORIGINAL-URL:https://lunademol.com
X-WR-CALDESC:Events for LUNA DE MOL
REFRESH-INTERVAL;VALUE=DURATION:PT1H
X-Robots-Tag:noindex
X-PUBLISHED-TTL:PT1H
BEGIN:VTIMEZONE
TZID:UTC
BEGIN:STANDARD
TZOFFSETFROM:+0000
TZOFFSETTO:+0000
TZNAME:UTC
DTSTART:20250101T000000
END:STANDARD
END:VTIMEZONE
BEGIN:VEVENT
DTSTART;TZID=UTC:20260618T130000
DTEND;TZID=UTC:20260618T143000
DTSTAMP:20260425T131331
CREATED:20260324T133542Z
LAST-MODIFIED:20260324T133542Z
UID:4541-1781787600-1781793000@lunademol.com
SUMMARY:Fibonacci Quartet in Concert@Royal Academy Of Music - London
DESCRIPTION:Programme: \nTchaikovsky: Souvenir de Florence\, Op 70\nDvořák: String Sextet in A\, Op 48 \nwith string students alongside the Quartet \nFibonacci Quartet : \n* Luna De Mol \, Kryštof Kohout – violin\n* Elliot Kempton – viola\n* Findlay Spence – cello \nSee also Fibonacci Site
URL:https://lunademol.com/concerts/fibonacci-quartet-in-concertroyal-academy-of-music-london/
LOCATION:Angela Burgess Recital Hall\, Marylebone Road\, London\, NW1 5HT\, United Kingdom
ATTACH;FMTTYPE=image/jpeg:https://lunademol.com/wp-content/uploads/2026/01/RAM-Angela-Burgess.jpg
END:VEVENT
BEGIN:VEVENT
DTSTART;TZID=UTC:20260620T190000
DTEND;TZID=UTC:20260620T203000
DTSTAMP:20260425T131331
CREATED:20260128T114115Z
LAST-MODIFIED:20260324T142539Z
UID:4415-1781982000-1781987400@lunademol.com
SUMMARY:Fibonacci Quartet in Concert@Thaxted Festival
DESCRIPTION:Programme: \nBeethoven: String Quartet Op.18 No.1 in F major\nFergus Hall: Three Hours After High Water\nSchumann: String Quartet No. 3 in A major\, Op.41 No.3 \nFibonacci Quartet : \n* Luna De Mol \, Kryštof Kohout – violin\n* Elliot Kempton – viola\n* Findlay Spence – cello \nSee also Fibonacci Site
URL:https://lunademol.com/concerts/thaxted/
LOCATION:Thaxted Parish Church\, Watling Street\, Thaxted\, CM6 2PE
ATTACH;FMTTYPE=image/jpeg:https://lunademol.com/wp-content/uploads/2026/01/Thaxted.jpg
END:VEVENT
BEGIN:VEVENT
DTSTART;TZID=UTC:20260623T110000
DTEND;TZID=UTC:20260623T123000
DTSTAMP:20260425T131331
CREATED:20260324T140917Z
LAST-MODIFIED:20260324T140917Z
UID:4544-1782212400-1782217800@lunademol.com
SUMMARY:Fibonacci Quartet in Concert@Stromness - Orkney
DESCRIPTION:Programme: \nFergus Hall :Three Hours After High Water\nArrangements of Moravian Folk Music\nJanáček : String Quartet No. 2 ‘Intimate Letters’\nSchumann : String Quartet\,  Op. 41 No. 3 \nFibonacci Quartet : \n* Luna De Mol \, Kryštof Kohout – violin\n* Elliot Kempton – viola\n* Findlay Spence – cello \nSee also Fibonacci Site
URL:https://lunademol.com/concerts/stromness/
LOCATION:Stromness Town Hall\, 10 Church Road\, Stromness\, KW16 3BA\, United Kingdom
ATTACH;FMTTYPE=image/jpeg:https://lunademol.com/wp-content/uploads/2026/03/Stromness_Town_Hall.jpg
END:VEVENT
BEGIN:VEVENT
DTSTART;TZID=UTC:20260624T130000
DTEND;TZID=UTC:20260624T143000
DTSTAMP:20260425T131331
CREATED:20260324T141950Z
LAST-MODIFIED:20260324T141950Z
UID:4553-1782306000-1782311400@lunademol.com
SUMMARY:Fibonacci Quartet in Concert@Kirkwall - Orkney
DESCRIPTION:Programme: \nHaydn: String Quartet Op. 64 No. 5 ‘Lark’\nDebussy: String Quartet in G Minor\nThe Great American Songbook arr. Fibonacci Quartet \nFibonacci Quartet : \n* Luna De Mol \, Kryštof Kohout – violin\n* Elliot Kempton – viola\n* Findlay Spence – cello \nSee also Fibonacci Site
URL:https://lunademol.com/concerts/kirkwall/
LOCATION:St Magnus Cathedral\, Broad Street\, Kirkwall\, KW15 1DH\, United Kingdom
ATTACH;FMTTYPE=image/jpeg:https://lunademol.com/wp-content/uploads/2026/03/kirkwall.jpg
END:VEVENT
BEGIN:VEVENT
DTSTART;TZID=UTC:20260626T200000
DTEND;TZID=UTC:20260626T220000
DTSTAMP:20260425T131331
CREATED:20260128T145108Z
LAST-MODIFIED:20260128T145108Z
UID:4433-1782504000-1782511200@lunademol.com
SUMMARY:Fibonacci Quartet @Wolfegg - Germany
DESCRIPTION:Programma / Programme\nWolfgang Amadeus Mozart: Divertimento in D major\, KV 136\nJosef Suk: Meditation on the Old Bohemian Chorale “St. Wenceslas\,” Op. 35a\nLeoš Janaček: String Quartet No. 2 “Intimate Letters” \nRobert Schumann: String Quartet No. 3 in A major\, Op. 41/3 \nFibonacci Quartet : \n* Luna De Mol \, Kryštof Kohout – violin\n* Elliot Kempton – viola\n* Findlay Spence – cello
URL:https://lunademol.com/concerts/wolfegger/
LOCATION:Alte Pfarr – Wolfegg\, Mesnergässle 5\, Wolfegg\, 88364\, Germany
ATTACH;FMTTYPE=image/jpeg:https://lunademol.com/wp-content/uploads/2026/01/Alte-Pfar-Wolfegg-1.jpg
END:VEVENT
BEGIN:VEVENT
DTSTART;TZID=UTC:20260628T110000
DTEND;TZID=UTC:20260628T123000
DTSTAMP:20260425T131331
CREATED:20260128T152013Z
LAST-MODIFIED:20260128T152013Z
UID:4449-1782644400-1782649800@lunademol.com
SUMMARY:Fibonacci Quartet @Mozartfest Würzburg - Germany
DESCRIPTION:Programma / Programme\nWolfgang Amadeus Mozart: Divertimento in D major\, KV 136\nLeoš Janaček: String Quartet No. 2 “Intimate Letters”\nRobert Schumann: String Quartet No. 3 in A major\, Op. 41/3 \nFibonacci Quartet : \n* Luna De Mol \, Kryštof Kohout – violin\n* Elliot Kempton – viola\n* Findlay Spence – cello
URL:https://lunademol.com/concerts/wurzburg/
LOCATION:Mozartareal – Würzburg\, Hofstrasse 11\, Würzburg\, 97070\, Germany
ATTACH;FMTTYPE=image/jpeg:https://lunademol.com/wp-content/uploads/2026/01/Mozartareal-Wurzburg.jpg
END:VEVENT
BEGIN:VEVENT
DTSTART;TZID=UTC:20260630T193000
DTEND;TZID=UTC:20260630T210000
DTSTAMP:20260425T131331
CREATED:20260128T153840Z
LAST-MODIFIED:20260128T153840Z
UID:4447-1782847800-1782853200@lunademol.com
SUMMARY:Fibonacci Quartet in Concert@Beaminster
DESCRIPTION:Programme: \nTBC \nFibonacci Quartet : \n* Luna De Mol \, Kryštof Kohout – violin\n* Elliot Kempton – viola\n* Findlay Spence – cello \nSee also Fibonacci Site
URL:https://lunademol.com/concerts/beaminster/
LOCATION:St Mary’s Church – Beaminster\, Church Street\, Beaminster\, DT8 3BA\, United Kingdom
ATTACH;FMTTYPE=image/jpeg:https://lunademol.com/wp-content/uploads/2026/01/Beaminster-St_Marys_Parish_Church.jpg
END:VEVENT
BEGIN:VEVENT
DTSTART;TZID=UTC:20260716T080000
DTEND;TZID=UTC:20260802T220000
DTSTAMP:20260425T131331
CREATED:20260324T143828Z
LAST-MODIFIED:20260325T074603Z
UID:4543-1784188800-1785708000@lunademol.com
SUMMARY:Fibonacci Quartet in Concert@Verbier Festival - Switzerland
DESCRIPTION:The Fibonacci Quartet has been selected as the ensemble to attend the masterclasses in Verbier. \nFibonacci Quartet : \n* Luna De Mol \, Kryštof Kohout – violin\n* Elliot Kempton – viola\n* Findlay Spence – cello \nSee also Fibonacci Site
URL:https://lunademol.com/concerts/verbier/
LOCATION:Verbier Festival Locations\, Switzerland
ATTACH;FMTTYPE=image/jpeg:https://lunademol.com/wp-content/uploads/2026/03/verbier.jpg
END:VEVENT
BEGIN:VEVENT
DTSTART;TZID=UTC:20261010T193000
DTEND;TZID=UTC:20261010T210000
DTSTAMP:20260425T131331
CREATED:20250925T151931Z
LAST-MODIFIED:20250925T151931Z
UID:4193-1791660600-1791666000@lunademol.com
SUMMARY:Fibonacci Quartet in Concert@Berkhamsted
DESCRIPTION:Programme: \nTBC \nFibonacci Quartet : \n* Luna De Mol \, Kryštof Kohout – violin\n* Elliot Kempton – viola\n* Findlay Spence – cello \nSee also Fibonacci Site
URL:https://lunademol.com/concerts/fibonacci-quartet-in-concert-berkhamsted/
LOCATION:Berkhamsted Civic Centre\, 1472 High Street\, Berkhamsted\, HP4 3HD\, United Kingdom
ATTACH;FMTTYPE=image/jpeg:https://lunademol.com/wp-content/uploads/2025/09/Berkhamsted.jpg
END:VEVENT
BEGIN:VEVENT
DTSTART;TZID=UTC:20270110T110000
DTEND;TZID=UTC:20270110T120000
DTSTAMP:20260425T131331
CREATED:20260324T153038Z
LAST-MODIFIED:20260325T073624Z
UID:4573-1799578800-1799582400@lunademol.com
SUMMARY:Fibonacci Quartet in Concert@Concertgebouw Amsterdam
DESCRIPTION:Broadcast Live on NPO Klassiek  \nProgramme: \n\n\n\nMozart: String Quartet in D major\, KV 575 ‘Prussian’\nTsjaikovski: String Quartet No. 3 in E-flat minor\, op. 30 \n\n\n\nFibonacci Quartet : \n* Luna De Mol \, Kryštof Kohout – violin\n* Elliot Kempton – viola\n* Findlay Spence – cello \nSee also Fibonacci Site
URL:https://lunademol.com/concerts/concertgebouw-adam/
LOCATION:Concertgebouw Amsterdam\, Concertgebouwplein 10\, Amsterdam\, 1071 BB\, Netherlands
ATTACH;FMTTYPE=image/jpeg:https://lunademol.com/wp-content/uploads/2026/03/Amsterdam-Concertgebouw.jpg
END:VEVENT
END:VCALENDAR